BEGIN:VCALENDAR
VERSION:2.0
PRODID:-//jeffriesglass - ECPv6.15.20//NONSGML v1.0//EN
CALSCALE:GREGORIAN
METHOD:PUBLISH
X-WR-CALNAME:jeffriesglass
X-ORIGINAL-URL:https://jeffriesglass.com
X-WR-CALDESC:Events for jeffriesglass
REFRESH-INTERVAL;VALUE=DURATION:PT1H
X-Robots-Tag:noindex
X-PUBLISHED-TTL:PT1H
BEGIN:VTIMEZONE
TZID:UTC
BEGIN:STANDARD
TZOFFSETFROM:+0000
TZOFFSETTO:+0000
TZNAME:UTC
DTSTART:20200101T000000
END:STANDARD
END:VTIMEZONE
BEGIN:VEVENT
DTSTART;TZID=UTC:20210206T090000
DTEND;TZID=UTC:20210207T170000
DTSTAMP:20260421T084734
CREATED:20201211T220512Z
LAST-MODIFIED:20201211T220913Z
UID:2505-1612602000-1612717200@jeffriesglass.com
SUMMARY:ArtFest Fort Myers | Fort Myers\, FL
DESCRIPTION:“The festival includes the largest high school art exhibit and competition in Southwest Florida; a high school sidewalk chalk competition; a children’s Art Yard with interactive art projects and a Youth Stage featuring regional performing arts organizations – all being modified to be in compliance with CDC Guidance. Our upscale dining areas with shaded table seating provide ample food/beverage options. Be assured that all aspects of the art festival are being reviewed to be in compliance with CDC Guidance.” \n\n\n\nArtFest@Home \n\n\n\n“ALL-NEW for 2021\, we are thrilled to announce ArtFest@Home. This virtual art festival is being created to exist alongside the in-person festival providing additional experiences.” \n\n\n\n 
URL:https://jeffriesglass.com/event/artfest-fort-myers-fort-myers-fl/
LOCATION:Downtown Fort Myers\, Edwards Drive\, Fort Myers\, Florida\, United States
ATTACH;FMTTYPE=image/jpeg:https://jeffriesglass.com/wp-content/uploads/2020/12/artfest-with-dates.jpeg
END:VEVENT
BEGIN:VEVENT
DTSTART;TZID=UTC:20210129T100000
DTEND;TZID=UTC:20210131T170000
DTSTAMP:20260421T084734
CREATED:20201211T215223Z
LAST-MODIFIED:20201211T215225Z
UID:2500-1611914400-1612112400@jeffriesglass.com
SUMMARY:Southwest Arts Festival | Indio\, CA
DESCRIPTION:“The Southwest Arts Festival® Indio 2021 will be held on January 29\, 30 and 31\, 2021. Now in its 35th year\, The Southwest Arts Festival® will once again be held at the Empire Polo Club in Indio\, California. Empire Polo Club is an international destination renowned for its natural beauty\, featuring natural landscape and sweeping mountain ranges. Every year the Arts Festival continues to evolve and attract a high caliber of talented artists and unique artwork. This year’s festival will feature live music\, with pottery\, glass and fine art painting scheduled to be on display. Visitors can also enjoy a variety of dining and beverage options while casually walking the grounds.”
URL:https://jeffriesglass.com/event/southwest-arts-festival-indio-ca-3/
LOCATION:Empire Polo Club\, 81800 51st Avenue\, Indio\, California\, 92201\, United States
ATTACH;FMTTYPE=image/jpeg:https://jeffriesglass.com/wp-content/uploads/2020/12/southwest-arts-festival.jpg
END:VEVENT
BEGIN:VEVENT
DTSTART;TZID=UTC:20210109T100000
DTEND;TZID=UTC:20210110T170000
DTSTAMP:20260421T084734
CREATED:20201211T213401Z
LAST-MODIFIED:20201211T215315Z
UID:2495-1610186400-1610298000@jeffriesglass.com
SUMMARY:Bonita Springs National Art Festival | Bonita Springs\, FL
DESCRIPTION:Bonita Springs National Art Festivals\n\n\n\nArt & Fine Crafts – Food & Beverages – Community\n\n\n\n“Our commitment to presenting quality artwork and a pleasant experience to the patrons has resulted in the highest ratings by the National ranking services. View and buy artworks directly from the artists who produce the work. Enjoy the artworks of 200 National and International artists of the highest quality. Art lovers in the Southwest Florida community may view and obtain the work of award winning artists from the United States\, Canada and Europe. Paintings\, glass\, jewelry\, clay works\, photography\, sculpture\, wood and more.Great tasting foods and beverages in a comfortable park setting.The festivals support the Centers for the Arts campuses of the not for profit Centers for the Arts Bonita Springs. Programs for all ages and all seasons.”
URL:https://jeffriesglass.com/event/bonita-springs-national-art-festival-bonita-springs-fl/
LOCATION:Riverside Park\, 10450 REYNOLDS ST\, Bonita Springs\, Florida\, 34135\, United States
ATTACH;FMTTYPE=image/jpeg:https://jeffriesglass.com/wp-content/uploads/2020/12/bonita-arts-festival.jpg
END:VEVENT
END:VCALENDAR